BEGIN:VCALENDAR
VERSION:2.0
PRODID:-//Ev.-luth. Kirchengemeinde Walkenried - ECPv5.16.4//NONSGML v1.0//EN
CALSCALE:GREGORIAN
METHOD:PUBLISH
X-WR-CALNAME:Ev.-luth. Kirchengemeinde Walkenried
X-ORIGINAL-URL:https://www.kirchengemeinde-walkenried.de
X-WR-CALDESC:Veranstaltungen für Ev.-luth. Kirchengemeinde Walkenried
BEGIN:VTIMEZONE
TZID:Europe/Berlin
BEGIN:DAYLIGHT
TZOFFSETFROM:+0100
TZOFFSETTO:+0200
TZNAME:CEST
DTSTART:20240331T010000
END:DAYLIGHT
BEGIN:STANDARD
TZOFFSETFROM:+0200
TZOFFSETTO:+0100
TZNAME:CET
DTSTART:20241027T010000
END:STANDARD
END:VTIMEZONE
BEGIN:VEVENT
DTSTART;VALUE=DATE:20240328
DTEND;VALUE=DATE:20240329
DTSTAMP:20260419T185913
CREATED:20240319T154911Z
LAST-MODIFIED:20240319T154911Z
UID:28167-1711584000-1711670399@www.kirchengemeinde-walkenried.de
SUMMARY:Abendmahlsgottesdienst
DESCRIPTION:zum Gründonnerstag \num 18.30 Uhr in Neuhof (!) \nPfarrer Heiner Reinhard
URL:https://www.kirchengemeinde-walkenried.de/event/abendmahlsgottesdienst/
ATTACH;FMTTYPE=image/jpeg:https://www.kirchengemeinde-walkenried.de/wp-content/uploads/2017/09/Erntedank-2005-5.jpg
END:VEVENT
END:VCALENDAR