BEGIN:VCALENDAR
VERSION:2.0
PRODID:-//Ev.-luth. Kirchengemeinde Walkenried - ECPv5.16.4//NONSGML v1.0//EN
CALSCALE:GREGORIAN
METHOD:PUBLISH
X-WR-CALNAME:Ev.-luth. Kirchengemeinde Walkenried
X-ORIGINAL-URL:https://www.kirchengemeinde-walkenried.de
X-WR-CALDESC:Veranstaltungen für Ev.-luth. Kirchengemeinde Walkenried
BEGIN:VTIMEZONE
TZID:Europe/Berlin
BEGIN:DAYLIGHT
TZOFFSETFROM:+0100
TZOFFSETTO:+0200
TZNAME:CEST
DTSTART:20240331T010000
END:DAYLIGHT
BEGIN:STANDARD
TZOFFSETFROM:+0200
TZOFFSETTO:+0100
TZNAME:CET
DTSTART:20241027T010000
END:STANDARD
END:VTIMEZONE
BEGIN:VEVENT
DTSTART;TZID=Europe/Berlin:20240401T103000
DTEND;TZID=Europe/Berlin:20240401T103000
DTSTAMP:20260420T004135
CREATED:20240319T155453Z
LAST-MODIFIED:20240319T155453Z
UID:28173-1711967400-1711967400@www.kirchengemeinde-walkenried.de
SUMMARY:Festgottesdienst
DESCRIPTION:zum Ostermontag \num 10.30 Uhr in Neuhof \nPfarrer Heiner Reinhard
URL:https://www.kirchengemeinde-walkenried.de/event/festgottesdienst-8/
ATTACH;FMTTYPE=image/jpeg:https://www.kirchengemeinde-walkenried.de/wp-content/uploads/2017/11/Heiner2018-Taufe.jpg
END:VEVENT
END:VCALENDAR