BEGIN:VCALENDAR
VERSION:2.0
PRODID:-//Ev.-luth. Kirchengemeinde Walkenried - ECPv5.16.4//NONSGML v1.0//EN
CALSCALE:GREGORIAN
METHOD:PUBLISH
X-WR-CALNAME:Ev.-luth. Kirchengemeinde Walkenried
X-ORIGINAL-URL:https://www.kirchengemeinde-walkenried.de
X-WR-CALDESC:Veranstaltungen für Ev.-luth. Kirchengemeinde Walkenried
BEGIN:VTIMEZONE
TZID:Europe/Berlin
BEGIN:DAYLIGHT
TZOFFSETFROM:+0100
TZOFFSETTO:+0200
TZNAME:CEST
DTSTART:20240331T010000
END:DAYLIGHT
BEGIN:STANDARD
TZOFFSETFROM:+0200
TZOFFSETTO:+0100
TZNAME:CET
DTSTART:20241027T010000
END:STANDARD
END:VTIMEZONE
BEGIN:VEVENT
DTSTART;TZID=Europe/Berlin:20241222T103000
DTEND;TZID=Europe/Berlin:20241222T103000
DTSTAMP:20260423T123452
CREATED:20241121T151056Z
LAST-MODIFIED:20241121T151820Z
UID:28374-1734863400-1734863400@www.kirchengemeinde-walkenried.de
SUMMARY:Gottesdienst
DESCRIPTION:zum Vierten Advent \nPfarrer Heiner Reinhard
URL:https://www.kirchengemeinde-walkenried.de/event/gottesdienst-328/
ATTACH;FMTTYPE=image/jpeg:https://www.kirchengemeinde-walkenried.de/wp-content/uploads/2017/09/kirchenladen_slider.jpg
END:VEVENT
END:VCALENDAR