BEGIN:VCALENDAR
VERSION:2.0
PRODID:-//Ev.-luth. Kirchengemeinde Walkenried - ECPv5.16.4//NONSGML v1.0//EN
CALSCALE:GREGORIAN
METHOD:PUBLISH
X-WR-CALNAME:Ev.-luth. Kirchengemeinde Walkenried
X-ORIGINAL-URL:https://www.kirchengemeinde-walkenried.de
X-WR-CALDESC:Veranstaltungen für Ev.-luth. Kirchengemeinde Walkenried
BEGIN:VTIMEZONE
TZID:Europe/Berlin
BEGIN:DAYLIGHT
TZOFFSETFROM:+0100
TZOFFSETTO:+0200
TZNAME:CEST
DTSTART:20250330T010000
END:DAYLIGHT
BEGIN:STANDARD
TZOFFSETFROM:+0200
TZOFFSETTO:+0100
TZNAME:CET
DTSTART:20251026T010000
END:STANDARD
END:VTIMEZONE
BEGIN:VEVENT
DTSTART;TZID=Europe/Berlin:20250104T180000
DTEND;TZID=Europe/Berlin:20250104T180000
DTSTAMP:20260423T223553
CREATED:20241121T152245Z
LAST-MODIFIED:20241230T100409Z
UID:28386-1736013600-1736013600@www.kirchengemeinde-walkenried.de
SUMMARY:Gottesdienst mit dem Walkenried Consort
DESCRIPTION:mit dem Walkenried Consort \nPfarrer Heiner Reinhard
URL:https://www.kirchengemeinde-walkenried.de/event/gottesdienst-330/
ATTACH;FMTTYPE=image/jpeg:https://www.kirchengemeinde-walkenried.de/wp-content/uploads/2017/11/IMGP7304.jpg
END:VEVENT
END:VCALENDAR