BEGIN:VCALENDAR
VERSION:2.0
PRODID:-//Ev.-luth. Kirchengemeinde Walkenried - ECPv5.16.4//NONSGML v1.0//EN
CALSCALE:GREGORIAN
METHOD:PUBLISH
X-WR-CALNAME:Ev.-luth. Kirchengemeinde Walkenried
X-ORIGINAL-URL:https://www.kirchengemeinde-walkenried.de
X-WR-CALDESC:Veranstaltungen für Ev.-luth. Kirchengemeinde Walkenried
BEGIN:VTIMEZONE
TZID:Europe/Berlin
BEGIN:DAYLIGHT
TZOFFSETFROM:+0100
TZOFFSETTO:+0200
TZNAME:CEST
DTSTART:20250330T010000
END:DAYLIGHT
BEGIN:STANDARD
TZOFFSETFROM:+0200
TZOFFSETTO:+0100
TZNAME:CET
DTSTART:20251026T010000
END:STANDARD
END:VTIMEZONE
BEGIN:VEVENT
DTSTART;TZID=Europe/Berlin:20250316T103000
DTEND;TZID=Europe/Berlin:20250316T103000
DTSTAMP:20260424T164714
CREATED:20250220T164958Z
LAST-MODIFIED:20250220T164958Z
UID:28452-1742121000-1742121000@www.kirchengemeinde-walkenried.de
SUMMARY:Gottesdienst
DESCRIPTION:Pfarrer Heiner Reinhard
URL:https://www.kirchengemeinde-walkenried.de/event/gottesdienst-340/
ATTACH;FMTTYPE=image/jpeg:https://www.kirchengemeinde-walkenried.de/wp-content/uploads/2021/03/07_kreuzgarten_klosterrundgang_slider.jpg
END:VEVENT
END:VCALENDAR