BEGIN:VCALENDAR
VERSION:2.0
PRODID:-//Ev.-luth. Kirchengemeinde Walkenried - ECPv5.16.4//NONSGML v1.0//EN
CALSCALE:GREGORIAN
METHOD:PUBLISH
X-WR-CALNAME:Ev.-luth. Kirchengemeinde Walkenried
X-ORIGINAL-URL:https://www.kirchengemeinde-walkenried.de
X-WR-CALDESC:Veranstaltungen für Ev.-luth. Kirchengemeinde Walkenried
BEGIN:VTIMEZONE
TZID:Europe/Berlin
BEGIN:DAYLIGHT
TZOFFSETFROM:+0100
TZOFFSETTO:+0200
TZNAME:CEST
DTSTART:20260329T010000
END:DAYLIGHT
BEGIN:STANDARD
TZOFFSETFROM:+0200
TZOFFSETTO:+0100
TZNAME:CET
DTSTART:20261025T010000
END:STANDARD
END:VTIMEZONE
BEGIN:VEVENT
DTSTART;TZID=Europe/Berlin:20260418T140000
DTEND;TZID=Europe/Berlin:20260418T140000
DTSTAMP:20260421T200041
CREATED:20260304T155753Z
LAST-MODIFIED:20260416T151036Z
UID:28747-1776520800-1776520800@www.kirchengemeinde-walkenried.de
SUMMARY:Konfirmation
DESCRIPTION:mit Kantorei \nPfarrer Heiner Reinhard
URL:https://www.kirchengemeinde-walkenried.de/event/konfirmation-6/
ATTACH;FMTTYPE=image/jpeg:https://www.kirchengemeinde-walkenried.de/wp-content/uploads/2017/09/konfirmanden_gal_03.jpg
END:VEVENT
END:VCALENDAR