BEGIN:VCALENDAR
VERSION:2.0
PRODID:-//Ev.-luth. Kirchengemeinde Walkenried - ECPv5.16.4//NONSGML v1.0//EN
CALSCALE:GREGORIAN
METHOD:PUBLISH
X-WR-CALNAME:Ev.-luth. Kirchengemeinde Walkenried
X-ORIGINAL-URL:https://www.kirchengemeinde-walkenried.de
X-WR-CALDESC:Veranstaltungen für Ev.-luth. Kirchengemeinde Walkenried
BEGIN:VTIMEZONE
TZID:Europe/Berlin
BEGIN:DAYLIGHT
TZOFFSETFROM:+0100
TZOFFSETTO:+0200
TZNAME:CEST
DTSTART:20240331T010000
END:DAYLIGHT
BEGIN:STANDARD
TZOFFSETFROM:+0200
TZOFFSETTO:+0100
TZNAME:CET
DTSTART:20241027T010000
END:STANDARD
END:VTIMEZONE
BEGIN:VEVENT
DTSTART;TZID=Europe/Berlin:20240922T090000
DTEND;TZID=Europe/Berlin:20240922T090000
DTSTAMP:20260426T005335
CREATED:20240822T144104Z
LAST-MODIFIED:20240822T144104Z
UID:28305-1726995600-1726995600@www.kirchengemeinde-walkenried.de
SUMMARY:ökum. Gottesdienst
DESCRIPTION:zum Klostermarkt mit anschl. Eucharistiefeier \nPater Tobias Merkt OSB und Pfarrer Heiner Reinhard
URL:https://www.kirchengemeinde-walkenried.de/event/oekum-gottesdienst-6/
ATTACH;FMTTYPE=image/jpeg:https://www.kirchengemeinde-walkenried.de/wp-content/uploads/2017/09/klostermarkt_01.jpg
END:VEVENT
END:VCALENDAR