BEGIN:VCALENDAR
VERSION:2.0
PRODID:-//Ev.-luth. Kirchengemeinde Walkenried - ECPv5.16.4//NONSGML v1.0//EN
CALSCALE:GREGORIAN
METHOD:PUBLISH
X-WR-CALNAME:Ev.-luth. Kirchengemeinde Walkenried
X-ORIGINAL-URL:https://www.kirchengemeinde-walkenried.de
X-WR-CALDESC:Veranstaltungen für Ev.-luth. Kirchengemeinde Walkenried
BEGIN:VTIMEZONE
TZID:Europe/Berlin
BEGIN:DAYLIGHT
TZOFFSETFROM:+0100
TZOFFSETTO:+0200
TZNAME:CEST
DTSTART:20240331T010000
END:DAYLIGHT
BEGIN:STANDARD
TZOFFSETFROM:+0200
TZOFFSETTO:+0100
TZNAME:CET
DTSTART:20241027T010000
END:STANDARD
END:VTIMEZONE
BEGIN:VEVENT
DTSTART;TZID=Europe/Berlin:20240425T190000
DTEND;TZID=Europe/Berlin:20240425T190000
DTSTAMP:20260420T083402
CREATED:20240320T141036Z
LAST-MODIFIED:20240320T141036Z
UID:28199-1714071600-1714071600@www.kirchengemeinde-walkenried.de
SUMMARY:Orgelkonzert
DESCRIPTION:Heike Kiekhöfel\,  Braunschweig spielt Filmmusik auf der Orgel \nDer Eintritt ist frei; um eine Spende am Ausgang wird gebeten. \n 
URL:https://www.kirchengemeinde-walkenried.de/event/orgelkonzert-14/
ATTACH;FMTTYPE=image/jpeg:https://www.kirchengemeinde-walkenried.de/wp-content/uploads/2015/09/termine_04-1.jpg
END:VEVENT
END:VCALENDAR