BEGIN:VCALENDAR
VERSION:2.0
PRODID:-//Ev.-luth. Kirchengemeinde Walkenried - ECPv5.16.4//NONSGML v1.0//EN
CALSCALE:GREGORIAN
METHOD:PUBLISH
X-WR-CALNAME:Ev.-luth. Kirchengemeinde Walkenried
X-ORIGINAL-URL:https://www.kirchengemeinde-walkenried.de
X-WR-CALDESC:Veranstaltungen für Ev.-luth. Kirchengemeinde Walkenried
BEGIN:VTIMEZONE
TZID:Europe/Berlin
BEGIN:DAYLIGHT
TZOFFSETFROM:+0100
TZOFFSETTO:+0200
TZNAME:CEST
DTSTART:20240331T010000
END:DAYLIGHT
BEGIN:STANDARD
TZOFFSETFROM:+0200
TZOFFSETTO:+0100
TZNAME:CET
DTSTART:20241027T010000
END:STANDARD
END:VTIMEZONE
BEGIN:VEVENT
DTSTART;TZID=Europe/Berlin:20240330T210000
DTEND;TZID=Europe/Berlin:20240330T210000
DTSTAMP:20260419T225111
CREATED:20240319T155251Z
LAST-MODIFIED:20240319T155251Z
UID:28171-1711832400-1711832400@www.kirchengemeinde-walkenried.de
SUMMARY:Osternacht
DESCRIPTION:Pfarrer Heiner Reinhard und Kantorei \n 
URL:https://www.kirchengemeinde-walkenried.de/event/osternacht-6/
ATTACH;FMTTYPE=image/jpeg:https://www.kirchengemeinde-walkenried.de/wp-content/uploads/2017/09/kantorei_01.jpg
END:VEVENT
END:VCALENDAR