BEGIN:VCALENDAR
VERSION:2.0
PRODID:-//Ev.-luth. Kirchengemeinde Walkenried - ECPv5.16.4//NONSGML v1.0//EN
CALSCALE:GREGORIAN
METHOD:PUBLISH
X-WR-CALNAME:Ev.-luth. Kirchengemeinde Walkenried
X-ORIGINAL-URL:https://www.kirchengemeinde-walkenried.de
X-WR-CALDESC:Veranstaltungen für Ev.-luth. Kirchengemeinde Walkenried
BEGIN:VTIMEZONE
TZID:Europe/Berlin
BEGIN:DAYLIGHT
TZOFFSETFROM:+0100
TZOFFSETTO:+0200
TZNAME:CEST
DTSTART:20250330T010000
END:DAYLIGHT
BEGIN:STANDARD
TZOFFSETFROM:+0200
TZOFFSETTO:+0100
TZNAME:CET
DTSTART:20251026T010000
END:STANDARD
END:VTIMEZONE
BEGIN:VEVENT
DTSTART;TZID=Europe/Berlin:20250419T210000
DTEND;TZID=Europe/Berlin:20250419T210000
DTSTAMP:20260425T052123
CREATED:20250313T163112Z
LAST-MODIFIED:20250313T163112Z
UID:28474-1745096400-1745096400@www.kirchengemeinde-walkenried.de
SUMMARY:Osternacht
DESCRIPTION:Pfarrer Heiner Reinhard
URL:https://www.kirchengemeinde-walkenried.de/event/osternacht-7/
ATTACH;FMTTYPE=image/jpeg:https://www.kirchengemeinde-walkenried.de/wp-content/uploads/2017/09/schweigt_01.jpg
END:VEVENT
END:VCALENDAR